Workbook
Name PVO_Names: '[1]Members PVO Search'!$B$6:$B$3505

Sheet 1a-Overall Scores PDI
C1: PSSA SALON DATABASE RESULTS - PDI
C2: ='[1]Salon Schedule'!B69 -> Cumulative Overall Scores of Entrants - 2025 / 2026 - (up to Bloemfontein Nat Salon) - UNAUDITED
C4: * Please note that the Non-PSSA Members have been removed from the list at the end of the Impala Trophy period.
BL5: NO PSSA MEMBERSHIP | BN5: =BN9/D9 -> 0.5974212 | BO5: =BO9/D9 -> 0.36962751
C6: Top 30 Audited | BL6: =COUNTIF(BL12:BL1133,BL5) -> 279
C7: Non PSSA Members removed | BH7: =BH9-8433 -> -1718 | BL7: PSSA MEMBERS | BO7: =BO8-D9 -> -23
E8: =SUM(E12:E1998) -> 6214 | F8: =SUM(F12:F1998) -> 6491 | H8: =IF(F8='[1]Salon 2025 & 2026 DB'!BH3,"Ok","Error") -> Ok | M8: =IF(M9='[1]6.1 Judging'!AV7,"Ok","Error") -> Ok | P8: No of PDI Judges on Log: | Q8: =COUNTIF(M12:M209,">0") -> 39 | V8: =SUM(V12:V1998) -> 202 | W8: =SUM(W12:W1998) -> 224 | Y8: =IF(V8='[1]Salon 2025 & 2026 DB'!AX3,"Ok","Error") -> Ok | AD8: =IF(AD9='[1]6.1 Judging'!AX7,"Ok","Error") -> Ok | AG8: No of Print Judges on Log: | AH8: =COUNTIF(AD12:AD2032,">0") -> 3 | AM8: =SUM(AM13:AM1998) -> 0 | AN8: =SUM(AN13:AN1998) -> 0 | AP8: =IF(AM8='[1]Salon 2025 & 2026 DB'!BB3,"Ok","Error") -> Ok | AU8: =IF(AU9='[1]6.1 Judging'!BU6,"Ok","Error") -> Ok | AX8: No of AV Judges on Log: | AY8: =COUNTIF(AU12:AU1998,">0") -> 0 | BG8: =IF(BG9=(E8+V8+AM8),"Ok","Error") -> Ok | BH8: =IF(BH9='[1]Salon 2025 & 2026 DB'!AP4,"Ok","Error") -> Ok | BL8: =D9-BL6 -> 419 | BO8: =SUM(BN9:BO9) -> 675
C9: No of Entrants Accepted: | D9: =COUNTA(C12:C2500) -> 698 | F9: PDI SCORES BY CATEGORY | M9: =SUM(M12:M1998) -> 67 | N9: PDI Categories Judged | Q9: =SUM(Q12:Q209) -> 202 | V9: PRINT SCORES BY CATEGORY | AD9: =SUM(AD12:AD2032) -> 6 | AE9: PRINT Categories Judged | AH9: =SUM(AH12:AH2032) -> 11 | AM9: AV SCORES BY CATEGORY | AU9: =SUM(AU12:AU1998) -> 0 | AV9: AV Categories Judged | AY9: =SUM(AY12:AY1998) -> 0 | BG9: =SUM(BG12:BG1998) -> 6416 | BH9: =SUM(BH12:BH1998) -> 6715 | BN9: =COUNTIF(BN12:BN1536,"PSSA") -> 417 | BO9: =COUNTIF(BO12:BO1536,"Non PSSA") -> 258 | BV9: PDI Position Check | BZ9: PRINTS Position Check
D10: =VLOOKUP(C10,'[1]Salon 2025 & 2026 DB'!J:L,3,FALSE) -> #N/A | E10: =COUNTIFS('[1]Salon 2025 & 2026 DB'!J:J,'1a-Overall Scores PDI'!$C10,'[1]Salon 2025 & 2026 DB'!AT:AT,1) -> 0 | F10: =SUMIFS('[1]Salon 2025 & 2026 DB'!AP:AP,'[1]Salon 2025 & 2026 DB'!J:J,'1a-Overall Scores PDI'!$C10,'[1]Salon 2025 & 2026 DB'!AT:AT,1) -> 0 | G10: =IF(E10=0,0,F10/E10) -> 0 | H10: =SUMIF('[1]Salon 2025 & 2026 DB'!$J:$J,'1a-Overall Scores PDI'!$C10,'[1]Salon 2025 & 2026 DB'!BE:BE) -> 0 | I10: =SUMIF('[1]Salon 2025 & 2026 DB'!$J:$J,'1a-Overall Scores PDI'!$C10,'[1]Salon 2025 & 2026 DB'!BF:BF) -> 0 | J10: =SUMIF('[1]Salon 2025 & 2026 DB'!$J:$J,'1a-Overall Scores PDI'!$C10,'[1]Salon 2025 & 2026 DB'!BG:BG) -> 0 | K10: =IF(SUM(H10:J10)=F10,"Ok","Error") -> Ok | M10: =IF(E10=0,0,COUNTIFS('[1]6.1 Judging'!$B:$B,'1a-Overall Scores PDI'!C10,'[1]6.1 Judging'!$AR:$AR,">0")) -> 0 | N10: =SUMIFS('[1]6.1 Judging'!$AR:$AR,'[1]6.1 Judging'!$E:$E,"PDI",'[1]6.1 Judging'!$B:$B,'1a-Overall Scores PDI'!$C10,'[1]6.1 Judging'!$G:$G,'1a-Overall Scores PDI'!N$11) -> 0 | O10: =SUMIFS('[1]6.1 Judging'!$AR:$AR,'[1]6.1 Judging'!$E:$E,"PDI",'[1]6.1 Judging'!$B:$B,'1a-Overall Scores PDI'!$C10,'[1]6.1 Judging'!$G:$G,'1a-Overall Scores PDI'!O$11) -> 0 | P10: =SUMIFS('[1]6.1 Judging'!$AR:$AR,'[1]6.1 Judging'!$E:$E,"PDI",'[1]6.1 Judging'!$B:$B,'1a-Overall Scores PDI'!$C10,'[1]6.1 Judging'!$G:$G,'1a-Overall Scores PDI'!P$11) -> 0 | Q10: =IF(SUM(N10:P10)>F10,F10,SUM(N10:P10)) -> 0 | R10: =IF(SUMIFS('[1]6.1 Judging'!$AR:$AR,'[1]6.1 Judging'!$B:$B,'1a-Overall Scores PDI'!$C10,'[1]6.1 Judging'!$E:$E,"PDI")=SUM(N10:P10),"Ok","Error") -> Ok | S10: =IF(COUNTIFS('[1]6.1 Judging'!$B:$B,'1a-Overall Scores PDI'!$C10,'[1]6.1 Judging'!$E:$E,"PDI")=M10,"Ok","Error") -> Ok | T10: =F10+Q10 -> 0 | V10: =COUNTIFS('[1]Salon 2025 & 2026 DB'!$J:$J,$C10,'[1]Salon 2025 & 2026 DB'!$AX:$AX,1) -> 0 | W10: =SUMIFS('[1]Salon 2025 & 2026 DB'!$AP:$AP,'[1]Salon 2025 & 2026 DB'!$AX:$AX,1,'[1]Salon 2025 & 2026 DB'!$J:$J,C10) -> 0 | X10: =IF(V10=0,0,W10/V10) -> 0 | Y10: =SUMIFS('[1]Salon 2025 & 2026 DB'!$BJ:$BJ,'[1]Salon 2025 & 2026 DB'!$AX:$AX,1,'[1]Salon 2025 & 2026 DB'!$J:$J,$C10) -> 0 | Z10: =SUMIFS('[1]Salon 2025 & 2026 DB'!$BK:$BK,'[1]Salon 2025 & 2026 DB'!$AX:$AX,1,'[1]Salon 2025 & 2026 DB'!$J:$J,$C10) -> 0 | AA10: =SUMIFS('[1]Salon 2025 & 2026 DB'!$BL:$BL,'[1]Salon 2025 & 2026 DB'!$AX:$AX,1,'[1]Salon 2025 & 2026 DB'!$J:$J,$C10) -> 0 | AB10: =IF(SUM(Y10:AA10)=W10,"Ok","Error") -> Ok | AD10: =(COUNTIFS('[1]6.1 Judging'!$B:$B,C10,'[1]6.1 Judging'!AX:AX,"In DB",'[1]6.1 Judging'!$AS:$AS,">0")) -> 0 | AE10: =SUMIFS('[1]6.1 Judging'!$AS:$AS,'[1]6.1 Judging'!$B:$B,$C10,'[1]6.1 Judging'!$E:$E,"Prints",'[1]6.1 Judging'!AX:AX,"In DB",'[1]6.1 Judging'!$G:$G,AE$11) -> 0 | AF10: =SUMIFS('[1]6.1 Judging'!$AS:$AS,'[1]6.1 Judging'!$B:$B,$C10,'[1]6.1 Judging'!$E:$E,"Prints",'[1]6.1 Judging'!AX:AX,"In DB",'[1]6.1 Judging'!$G:$G,AF$11) -> 0 | AG10: =SUMIFS('[1]6.1 Judging'!$AS:$AS,'[1]6.1 Judging'!$B:$B,$C10,'[1]6.1 Judging'!$E:$E,"Prints",'[1]6.1 Judging'!AX:AX,"In DB",'[1]6.1 Judging'!$G:$G,AG$11) -> 0 | AH10: =IF(SUM(AE10:AG10)>W10,W10,SUM(AE10:AG10)) -> 0 | AI10: =IF(SUMIFS('[1]6.1 Judging'!$AS:$AS,'[1]6.1 Judging'!$B:$B,$C10,'[1]6.1 Judging'!$E:$E,"PRINTS")=SUM(AE10:AG10),"Ok","Error") -> Ok | AJ10: =IF(COUNTIFS('[1]6.1 Judging'!$B:$B,$C10,'[1]6.1 Judging'!$E:$E,"PRINTS")=AD10,"Ok","Error") -> Ok | AK10: =W10+AH10 -> 0 | AM10: =COUNTIFS('[1]Salon 2025 & 2026 DB'!$J:$J,$C10,'[1]Salon 2025 & 2026 DB'!$BB:$BB,1) -> 0 | AN10: =SUM(AP10:AR10) -> 0 | AO10: =IF(AM10=0,0,AN10/AM10) -> 0 | AP10: =SUMIFS('[1]Salon 2025 & 2026 DB'!$AP$6:$AP$29995,'[1]Salon 2025 & 2026 DB'!$J$6:$J$29995,$C10,'[1]Salon 2025 & 2026 DB'!$Q$6:$Q$29995,AP$11) -> 0 | AQ10: =SUMIFS('[1]Salon 2025 & 2026 DB'!$AP$6:$AP$29995,'[1]Salon 2025 & 2026 DB'!$J$6:$J$29995,$C10,'[1]Salon 2025 & 2026 DB'!$Q$6:$Q$29995,AQ$11) -> 0 | AS10: =IF(SUM(AP10:AR10)=AN10,"Ok","Error") -> Ok | AU10: =IF(AN10=0,0,COUNTIFS('[1]6.1 Judging'!$B:$B,'1a-Overall Scores PDI'!$C10,'[1]6.1 Judging'!$AS:$AS,">0")) -> 0 | AV10: =SUMIFS('[1]6.1 Judging'!$AS:$AS,'[1]6.1 Judging'!$E:$E,"AV",'[1]6.1 Judging'!$B:$B,'1a-Overall Scores PDI'!$C10,'[1]6.1 Judging'!$G:$G,'1a-Overall Scores PDI'!AV$11) -> 0 | AW10: =SUMIFS('[1]6.1 Judging'!$AS:$AS,'[1]6.1 Judging'!$E:$E,"AV",'[1]6.1 Judging'!$B:$B,'1a-Overall Scores PDI'!$C10,'[1]6.1 Judging'!$G:$G,'1a-Overall Scores PDI'!AW$11) -> 0 | AX10: =SUMIFS('[1]6.1 Judging'!$AS:$AS,'[1]6.1 Judging'!$E:$E,"AV",'[1]6.1 Judging'!$B:$B,'1a-Overall Scores PDI'!$C10,'[1]6.1 Judging'!$G:$G,'1a-Overall Scores PDI'!AX$11) -> 0 | AY10: =SUM(AV10:AX10) -> 0 | AZ10: =IF(SUMIFS('[1]6.1 Judging'!$AR:$AR,'[1]6.1 Judging'!$B:$B,'1a-Overall Scores PDI'!$C10,'[1]6.1 Judging'!$E:$E,"AV")=SUM(AV10:AX10),"Ok","Error") -> Ok | BA10: =IF(COUNTIFS('[1]6.1 Judging'!$B:$B,'1a-Overall Scores PDI'!$C10,'[1]6.1 Judging'!$E:$E,"AV")=AU10,"Ok","Error") -> Ok | BB10: =AN10+AY10 -> 0 | BD10: =Q10+AH10+AY10 -> 0 | BE10: =T10+AK10 -> 0 | BG10: =E10+V10+AM10 -> 0 | BH10: =F10+W10+AN10 -> 0 | BI10: =IF(SUM(H10:J10)>0,1,0) -> 0 | BJ10: =IF(SUM(Y10:AA10)>0,1,0) -> 0 | BK10: =IF(SUM(AP10:AQ10)>0,1,0) -> 0 | BL10: =IF(ISNA(VLOOKUP(C10,'[1]PSSA-AM-2025-07'!$G$5:$J$1152,4,FALSE)),"NO PSSA MEMBERSHIP",VLOOKUP(C10,'[1]PSSA-AM-2025-07'!$G$5:$J$1152,4,FALSE)) -> NO PSSA MEMBERSHIP | BM10: =IF(VLOOKUP(C10,'[1]Salon 2025 & 2026 DB'!J:K,2,FALSE)=0,"NO PSSA MEMBERSHIP",VLOOKUP(C10,'[1]Salon 2025 & 2026 DB'!J:K,2,FALSE)) -> #N/A | BN10: =IF(AND(BL10="NO PSSA MEMBERSHIP","="),"-",IF(AND(BL10="NO PSSA MEMBERSHIP",BM10="-"),"-",IF(BM10="NO PSSA MEMBERSHIP","-","PSSA"))) -> - | BO10: =IF(AND(BL10="NO PSSA MEMBERSHIP",BM10=""),"Non PSSA",IF(AND(BL10="NO PSSA MEMBERSHIP",BM10="-"),"Non PSSA",IF(BM10="NO PSSA MEMBERSHIP","Non PSSA","-"))) -> #N/A | BV10: =IF(T10=T9,BV9,BV9+1) -> PDI Position Check | BW10: =T10-T9 -> 0 | BX10: =BX9+BW10 -> 0 | CF10: =SUM(CF12:CF209) -> 39
A11: =COUNTA(A12:A999) -> 0 | B11: Pos | C11: FULL NAMES | D11: Entrants Club | E11: No of PDI Photos | F11: Total PDI Points | G11: Ratio | H11: PDI Open | I11: PDI Nature | J11: PDI Mono | K11: CHECK | L11: 1 | M11: No of PDI Salons Judged | N11: Open | O11: Nature | P11: Mono | Q11: PDI Judging Points | R11: Check | S11: On PDI List? | T11: Total PDI Points | V11: No of PRINT Photos | W11: Total PRINT Points | X11: Ratio | Y11: Open | Z11: Nature | AA11: Mono | AB11: CHECK | AC11: 2 | AD11: No of PRINT Salons Judged | AE11: Open | AF11: Nature | AG11: Mono | AH11: PRINT Judging Points | AI11: Check | AJ11: On PRINT List? | AK11: Total PRINT Points | AM11: No of AV Photos | AN11: Total AV Points | AO11: Ratio | AP11: AV-Open | AQ11: AV-Specific | AS11: CHECK | AT11: 2 | AU11: No of AV Salons Judged | AV11: =AP11 -> AV-Open | AW11: =AQ11 -> AV-Specific | AY11: AV Judging Points | AZ11: Check | BA11: On AV List? | BB11: Total AV Points | BD11: TOTAL Judging Points | BE11: Total PDI, PRINT & AV Points | BG11: TOTAL Photos | BH11: TOTAL Points | BI11: PDI | BJ11: Print | BK11: AV | BL11: Check: PSSA Membership No - Active Members | BM11: Check: Membership No in DB | BN11: PSSA Members | BO11: Non PSSA Members | BQ11: No of PRINTS Salons Judged | BR11: PRINTS Judging Points | BS11: Total PRINTS Points | BV11: Re-adj Pos | BW11: Score Diff | BX11: Cum Score Diff | BZ11: Re-adj Pos | CA11: Score Diff | CB11: Cum Score Diff | CF11: PDI Judge Cat | CG11: Judge Name | CH11: Check - Club | CI11: Check | CJ11: Row
B12: 1 | C12: Alta Oosthuizen | D12: National Photographic Club | E12: 68 | F12: 84 | G12: 1.2352941 | H12: 41 | I12: 21 | J12: 22 | K12: Ok | M12: 2 | N12: 8 | O12: 0 | P12: 0 | Q12: 8 | R12: Ok | S12: Ok | T12: 92 | V12: 0 | W12: 0 | X12: 0 | Y12: 0 | Z12: 0 | AA12: 0 | AB12: Ok | AD12: 0 | AE12: 0 | AF12: 0 | AG12: 0 | AH12: 0 | AI12: Ok | AJ12: Ok | AK12: 0 | AM12: 0 | AN12: 0 | AO12: 0 | AP12: 0 | AQ12: 0 | AS12: Ok | AU12: 0 | AV12: 0 | AW12: 0 | AX12: 0 | AY12: 0 | AZ12: Ok | BA12: Ok | BB12: 0 | BD12: 8 | BE12: 92 | BG12: 68 | BH12: 84 | BI12: 1 | BJ12: 0 | BK12: 0 | BL12: M041253 | BM12: M041253 | BN12: PSSA | BO12: - | BV12: 1 | CF12: =IF($M12>0,1,0) -> 1 | CG12: =IF(CF12=0,0,C12) -> Alta Oosthuizen | CH12: =VLOOKUP(C12,'[1]Notes & Changes'!$D$58:$E$1012,2,FALSE) -> #N/A | CI12: =IF(CH12=D12,"Ok","Error") -> #N/A | CJ12: =ROW() -> 12
B13: 2 | C13: Nerissa Naidoo | D13: Hibiscus Coast Photographic Society | E13: 53 | F13: 73 | G13: 1.3773585 | H13: 43 | I13: 20 | J13: 10 | K13: Ok | M13: 2 | N13: 0 | O13: 8 | P13: 0 | Q13: 8 | R13: Ok | S13: Ok | T13: 81 | V13: 0 | W13: 0 | X13: 0 | Y13: 0 | Z13: 0 | AA13: 0 | AB13: Ok | AD13: 0 | AE13: 0 | AF13: 0 | AG13: 0 | AH13: 0 | AI13: Ok | AJ13: Ok | AK13: 0 | AM13: 0 | AN13: 0 | AO13: 0 | AP13: 0 | AQ13: 0 | AS13: Ok | AU13: 0 | AV13: 0 | AW13: 0 | AX13: 0 | AY13: 0 | AZ13: Ok | BA13: Ok | BB13: 0 | BD13: 8 | BE13: 81 | BG13: 53 | BH13: 73 | BI13: 1 | BJ13: 0 | BK13: 0 | BL13: M031056 | BM13: M031056 | BN13: PSSA | BO13: - | BV13: =IF(T13=T12,BV12,BV12+1) -> 2 | BW13: =T13-T12 -> -11 | BX13: =BX12+BW13 -> -11 | CF13: =IF($M13>0,1,0) -> 1 | CG13: =IF(CF13=0,0,C13) -> Nerissa Naidoo | CH13: =VLOOKUP(C13,'[1]Notes & Changes'!$D$58:$E$1012,2,FALSE) -> #N/A | CI13: =IF(CH13=D13,"Ok","Error") -> #N/A | CJ13: =ROW() -> 13
B14: 3 | C14: Robbie Aspeling | D14: Sandton Photographic Society | E14: 70 | F14: 73 | G14: 1.0428571 | H14: 41 | I14: 19 | J14: 13 | K14: Ok | M14: 0 | N14: 0 | O14: 0 | P14: 0 | Q14: 0 | R14: Ok | S14: Ok | T14: 73 | V14: 0 | W14: 0 | X14: 0 | Y14: 0 | Z14: 0 | AA14: 0 | AB14: Ok | AD14: 0 | AE14: 0 | AF14: 0 | AG14: 0 | AH14: 0 | AI14: Ok | AJ14: Ok | AK14: 0 | AM14: 0 | AN14: 0 | AO14: 0 | AP14: 0 | AQ14: 0 | AS14: Ok | AU14: 0 | AV14: 0 | AW14: 0 | AX14: 0 | AY14: 0 | AZ14: Ok | BA14: Ok | BB14: 0 | BD14: 0 | BE14: 73 | BG14: 70 | BH14: 73 | BI14: 1 | BJ14: 0 | BK14: 0 | BL14: M047375 | BM14: M047375 | BN14: PSSA | BO14: - | BV14: =IF(T14=T13,BV13,BV13+1) -> 3 | BW14: =T14-T13 -> -8 | BX14: =BX13+BW14 -> -19 | CF14: =IF($M14>0,1,0) -> 0 | CG14: =IF(CF14=0,0,C14) -> 0 | CH14: =VLOOKUP(C14,'[1]Notes & Changes'!$D$58:$E$1012,2,FALSE) -> Sandton Photographic Society | CI14: =IF(CH14=D14,"Ok","Error") -> Ok | CJ14: =ROW() -> 14
B15: 4 | C15: Leon Drotsky | D15: Ermelo Fotoklub | E15: 53 | F15: 60 | G15: 1.1320755 | H15: 24 | I15: 24 | J15: 12 | K15: Ok | M15: 2 | N15: 0 | O15: 8 | P15: 0 | Q15: 8 | R15: Ok | S15: Ok | T15: 68 | V15: 0 | W15: 0 | X15: 0 | Y15: 0 | Z15: 0 | AA15: 0 | AB15: Ok | AD15: 0 | AE15: 0 | AF15: 0 | AG15: 0 | AH15: 0 | AI15: Ok | AJ15: Ok | AK15: 0 | AM15: 0 | AN15: 0 | AO15: 0 | AP15: 0 | AQ15: 0 | AS15: Ok | AU15: 0 | AV15: 0 | AW15: 0 | AX15: 0 | AY15: 0 | AZ15: Ok | BA15: Ok | BB15: 0 | BD15: 8 | BE15: 68 | BG15: 53 | BH15: 60 | BI15: 1 | BJ15: 0 | BK15: 0 | BL15: M004577 | BM15: M004577 | BN15: PSSA | BO15: - | BV15: =IF(T15=T14,BV14,BV14+1) -> 4 | BW15: =T15-T14 -> -5 | BX15: =BX14+BW15 -> -24 | CF15: =IF($M15>0,1,0) -> 1 | CG15: =IF(CF15=0,0,C15) -> Leon Drotsky | CH15: =VLOOKUP(C15,'[1]Notes & Changes'!$D$58:$E$1012,2,FALSE) -> #N/A | CI15: =IF(CH15=D15,"Ok","Error") -> #N/A | CJ15: =ROW() -> 15
B16: 5 | C16: Kathy Kay | D16: Hibiscus Coast Photographic Society | E16: 50 | F16: 63 | G16: 1.26 | H16: 20 | I16: 35 | J16: 8 | K16: Ok | M16: 1 | N16: 0 | O16: 4 | P16: 0 | Q16: 4 | R16: Ok | S16: Ok | T16: 67 | V16: 0 | W16: 0 | X16: 0 | Y16: 0 | Z16: 0 | AA16: 0 | AB16: Ok | AD16: 0 | AE16: 0 | AF16: 0 | AG16: 0 | AH16: 0 | AI16: Ok | AJ16: Ok | AK16: 0 | AM16: 0 | AN16: 0 | AO16: 0 | AP16: 0 | AQ16: 0 | AS16: Ok | AU16: 0 | AV16: 0 | AW16: 0 | AX16: 0 | AY16: 0 | AZ16: Ok | BA16: Ok | BB16: 0 | BD16: 4 | BE16: 67 | BG16: 50 | BH16: 63 | BI16: 1 | BJ16: 0 | BK16: 0 | BL16: M027674 | BM16: M027674 | BN16: PSSA | BO16: - | BV16: =IF(T16=T15,BV15,BV15+1) -> 5 | BW16: =T16-T15 -> -1 | BX16: =BX15+BW16 -> -25 | CF16: =IF($M16>0,1,0) -> 1 | CG16: =IF(CF16=0,0,C16) -> Kathy Kay | CH16: =VLOOKUP(C16,'[1]Notes & Changes'!$D$58:$E$1012,2,FALSE) -> Hibiscus Coast Photographic Society | CI16: =IF(CH16=D16,"Ok","Error") -> Ok | CJ16: =ROW() -> 16
B17: 6 | C17: Rodney Cory | D17: Springs Photographic Club | E17: 58 | F17: 63 | G17: 1.0862069 | H17: 28 | I17: 23 | J17: 12 | K17: Ok | M17: 1 | N17: 4 | O17: 0 | P17: 0 | Q17: 4 | R17: Ok | S17: Ok | T17: 67 | V17: 0 | W17: 0 | X17: 0 | Y17: 0 | Z17: 0 | AA17: 0 | AB17: Ok | AD17: 0 | AE17: 0 | AF17: 0 | AG17: 0 | AH17: 0 | AI17: Ok | AJ17: Ok | AK17: 0 | AM17: 0 | AN17: 0 | AO17: 0 | AP17: 0 | AQ17: 0 | AS17: Ok | AU17: 0 | AV17: 0 | AW17: 0 | AX17: 0 | AY17: 0 | AZ17: Ok | BA17: Ok | BB17: 0 | BD17: 4 | BE17: 67 | BG17: 58 | BH17: 63 | BI17: 1 | BJ17: 0 | BK17: 0 | BL17: M044856 | BM17: M044856 | BN17: PSSA | BO17: - | BV17: =IF(T17=T16,BV16,BV16+1) -> 5 | BW17: =T17-T16 -> 0 | BX17: =BX16+BW17 -> -25 | CF17: =IF($M17>0,1,0) -> 1 | CG17: =IF(CF17=0,0,C17) -> Rodney Cory | CH17: =VLOOKUP(C17,'[1]Notes & Changes'!$D$58:$E$1012,2,FALSE) -> Springs Photographic Club | CI17: =IF(CH17=D17,"Ok","Error") -> Ok | CJ17: =ROW() -> 17
B18: 7 | C18: Willie Labuschagne | D18: Magalies Foto Fun Club | E18: 47 | F18: 55 | G18: 1.1702128 | H18: 20 | I18: 29 | J18: 6 | K18: Ok | M18: 1 | N18: 0 | O18: 0 | P18: 4 | Q18: 4 | R18: Ok | S18: Ok | T18: 59 | V18: 0 | W18: 0 | X18: 0 | Y18: 0 | Z18: 0 | AA18: 0 | AB18: Ok | AD18: 0 | AE18: 0 | AF18: 0 | AG18: 0 | AH18: 0 | AI18: Ok | AJ18: Ok | AK18: 0 | AM18: 0 | AN18: 0 | AO18: 0 | AP18: 0 | AQ18: 0 | AS18: Ok | AU18: 0 | AV18: 0 | AW18: 0 | AX18: 0 | AY18: 0 | AZ18: Ok | BA18: Ok | BB18: 0 | BD18: 4 | BE18: 59 | BG18: 47 | BH18: 55 | BI18: 1 | BJ18: 0 | BK18: 0 | BL18: M009168 | BM18: M009168 | BN18: PSSA | BO18: - | BV18: =IF(T18=T17,BV17,BV17+1) -> 6 | BW18: =T18-T17 -> -8 | BX18: =BX17+BW18 -> -33 | CF18: =IF($M18>0,1,0) -> 1 | CG18: =IF(CF18=0,0,C18) -> Willie Labuschagne | CH18: =VLOOKUP(C18,'[1]Notes & Changes'!$D$58:$E$1012,2,FALSE) -> Magalies Foto Fun Club | CI18: =IF(CH18=D18,"Ok","Error") -> Ok | CJ18: =ROW() -> 18
B19: 8 | C19: Shirley Swingler | D19: Amber Camera Club | E19: 47 | F19: 57 | G19: 1.212766 | H19: 21 | I19: 30 | J19: 6 | K19: Ok | M19: 0 | N19: 0 | O19: 0 | P19: 0 | Q19: 0 | R19: Ok | S19: Ok | T19: 57 | V19: 0 | W19: 0 | X19: 0 | Y19: 0 | Z19: 0 | AA19: 0 | AB19: Ok | AD19: 0 | AE19: 0 | AF19: 0 | AG19: 0 | AH19: 0 | AI19: Ok | AJ19: Ok | AK19: 0 | AM19: 0 | AN19: 0 | AO19: 0 | AP19: 0 | AQ19: 0 | AS19: Ok | AU19: 0 | AV19: 0 | AW19: 0 | AX19: 0 | AY19: 0 | AZ19: Ok | BA19: Ok | BB19: 0 | BD19: 0 | BE19: 57 | BG19: 47 | BH19: 57 | BI19: 1 | BJ19: 0 | BK19: 0 | BL19: M027508 | BM19: M027508 | BN19: PSSA | BO19: - | BV19: =IF(T19=T18,BV18,BV18+1) -> 7 | BW19: =T19-T18 -> -2 | BX19: =BX18+BW19 -> -35 | CF19: =IF($M19>0,1,0) -> 0 | CG19: =IF(CF19=0,0,C19) -> 0 | CH19: =VLOOKUP(C19,'[1]Notes & Changes'!$D$58:$E$1012,2,FALSE) -> Amber Camera Club | CI19: =IF(CH19=D19,"Ok","Error") -> Ok | CJ19: =ROW() -> 19
B20: 9 | C20: Johan Frost | D20: Midlens Fotoklub | E20: 46 | F20: 53 | G20: 1.1521739 | H20: 15 | I20: 34 | J20: 4 | K20: Ok | M20: 0 | N20: 0 | O20: 0 | P20: 0 | Q20: 0 | R20: Ok | S20: Ok | T20: 53 | V20: 0 | W20: 0 | X20: 0 | Y20: 0 | Z20: 0 | AA20: 0 | AB20: Ok | AD20: 0 | AE20: 0 | AF20: 0 | AG20: 0 | AH20: 0 | AI20: Ok | AJ20: Ok | AK20: 0 | AM20: 0 | AN20: 0 | AO20: 0 | AP20: 0 | AQ20: 0 | AS20: Ok | AU20: 0 | AV20: 0 | AW20: 0 | AX20: 0 | AY20: 0 | AZ20: Ok | BA20: Ok | BB20: 0 | BD20: 0 | BE20: 53 | BG20: 46 | BH20: 53 | BI20: 1 | BJ20: 0 | BK20: 0 | BL20: M006039 | BM20: M006039 | BN20: PSSA | BO20: - | BV20: =IF(T20=T19,BV19,BV19+1) -> 8 | BW20: =T20-T19 -> -4 | BX20: =BX19+BW20 -> -39 | CF20: =IF($M20>0,1,0) -> 0 | CG20: =IF(CF20=0,0,C20) -> 0 | CH20: =VLOOKUP(C20,'[1]Notes & Changes'!$D$58:$E$1012,2,FALSE) -> Midlens Fotoklub | CI20: =IF(CH20=D20,"Ok","Error") -> Ok | CJ20: =ROW() -> 20
B21: 10 | C21: David Woolf Stein | D21: Sandton Photographic Society | E21: 45 | F21: 52 | G21: 1.1555556 | H21: 15 | I21: 23 | J21: 14 | K21: Ok | M21: 0 | N21: 0 | O21: 0 | P21: 0 | Q21: 0 | R21: Ok | S21: Ok | T21: 52 | V21: 0 | W21: 0 | X21: 0 | Y21: 0 | Z21: 0 | AA21: 0 | AB21: Ok | AD21: 0 | AE21: 0 | AF21: 0 | AG21: 0 | AH21: 0 | AI21: Ok | AJ21: Ok | AK21: 0 | AM21: 0 | AN21: 0 | AO21: 0 | AP21: 0 | AQ21: 0 | AS21: Ok | AU21: 0 | AV21: 0 | AW21: 0 | AX21: 0 | AY21: 0 | AZ21: Ok | BA21: Ok | BB21: 0 | BD21: 0 | BE21: 52 | BG21: 45 | BH21: 52 | BI21: 1 | BJ21: 0 | BK21: 0 | BL21: M051054 | BM21: M051054 | BN21: PSSA | BO21: - | BV21: =IF(T21=T20,BV20,BV20+1) -> 9 | BW21: =T21-T20 -> -1 | BX21: =BX20+BW21 -> -40 | CF21: =IF($M21>0,1,0) -> 0 | CG21: =IF(CF21=0,0,C21) -> 0 | CH21: =VLOOKUP(C21,'[1]Notes & Changes'!$D$58:$E$1012,2,FALSE) -> #N/A | CI21: =IF(CH21=D21,"Ok","Error") -> #N/A | CJ21: =ROW() -> 21
B22: 11 | C22: Pieter Mare | D22: Knysna Photographic Society | E22: 42 | F22: 52 | G22: 1.2380952 | H22: 14 | I22: 31 | J22: 7 | K22: Ok | M22: 0 | N22: 0 | O22: 0 | P22: 0 | Q22: 0 | R22: Ok | S22: Ok | T22: 52 | V22: 0 | W22: 0 | X22: 0 | Y22: 0 | Z22: 0 | AA22: 0 | AB22: Ok | AD22: 0 | AE22: 0 | AF22: 0 | AG22: 0 | AH22: 0 | AI22: Ok | AJ22: Ok | AK22: 0 | AM22: 0 | AN22: 0 | AO22: 0 | AP22: 0 | AQ22: 0 | AS22: Ok | AU22: 0 | AV22: 0 | AW22: 0 | AX22: 0 | AY22: 0 | AZ22: Ok | BA22: Ok | BB22: 0 | BD22: 0 | BE22: 52 | BG22: 42 | BH22: 52 | BI22: 1 | BJ22: 0 | BK22: 0 | BL22: M010526 | BM22: M010526 | BN22: PSSA | BO22: - | BV22: =IF(T22=T21,BV21,BV21+1) -> 9 | BW22: =T22-T21 -> 0 | BX22: =BX21+BW22 -> -40 | CF22: =IF($M22>0,1,0) -> 0 | CG22: =IF(CF22=0,0,C22) -> 0 | CH22: =VLOOKUP(C22,'[1]Notes & Changes'!$D$58:$E$1012,2,FALSE) -> #N/A | CI22: =IF(CH22=D22,"Ok","Error") -> #N/A | CJ22: =ROW() -> 22
B23: 12 | C23: Hardus Pieters | D23: Ermelo Fotoklub | E23: 40 | F23: 42 | G23: 1.05 | H23: 10 | I23: 18 | J23: 14 | K23: Ok | M23: 2 | N23: 0 | O23: 8 | P23: 0 | Q23: 8 | R23: Ok | S23: Ok | T23: 50 | V23: 0 | W23: 0 | X23: 0 | Y23: 0 | Z23: 0 | AA23: 0 | AB23: Ok | AD23: 0 | AE23: 0 | AF23: 0 | AG23: 0 | AH23: 0 | AI23: Ok | AJ23: Ok | AK23: 0 | AM23: 0 | AN23: 0 | AO23: 0 | AP23: 0 | AQ23: 0 | AS23: Ok | AU23: 0 | AV23: 0 | AW23: 0 | AX23: 0 | AY23: 0 | AZ23: Ok | BA23: Ok | BB23: 0 | BD23: 8 | BE23: 50 | BG23: 40 | BH23: 42 | BI23: 1 | BJ23: 0 | BK23: 0 | BL23: M027941 | BM23: M027941 | BN23: PSSA | BO23: - | BV23: =IF(T23=T22,BV22,BV22+1) -> 10 | BW23: =T23-T22 -> -2 | BX23: =BX22+BW23 -> -42 | CF23: =IF($M23>0,1,0) -> 1 | CG23: =IF(CF23=0,0,C23) -> Hardus Pieters | CH23: =VLOOKUP(C23,'[1]Notes & Changes'!$D$58:$E$1012,2,FALSE) -> #N/A | CI23: =IF(CH23=D23,"Ok","Error") -> #N/A | CJ23: =ROW() -> 23
B24: 13 | C24: Leon Heyes | D24: Maritzburg Camera Club | E24: 50 | F24: 50 | G24: 1 | H24: 23 | I24: 15 | J24: 12 | K24: Ok | M24: 0 | N24: 0 | O24: 0 | P24: 0 | Q24: 0 | R24: Ok | S24: Ok | T24: 50 | V24: 0 | W24: 0 | X24: 0 | Y24: 0 | Z24: 0 | AA24: 0 | AB24: Ok | AD24: 0 | AE24: 0 | AF24: 0 | AG24: 0 | AH24: 0 | AI24: Ok | AJ24: Ok | AK24: 0 | AM24: 0 | AN24: 0 | AO24: 0 | AP24: 0 | AQ24: 0 | AS24: Ok | AU24: 0 | AV24: 0 | AW24: 0 | AX24: 0 | AY24: 0 | AZ24: Ok | BA24: Ok | BB24: 0 | BD24: 0 | BE24: 50 | BG24: 50 | BH24: 50 | BI24: 1 | BJ24: 0 | BK24: 0 | BL24: M024644 | BM24: M024644 | BN24: PSSA | BO24: - | BV24: =IF(T24=T23,BV23,BV23+1) -> 10 | BW24: =T24-T23 -> 0 | BX24: =BX23+BW24 -> -42 | CF24: =IF($M24>0,1,0) -> 0 | CG24: =IF(CF24=0,0,C24) -> 0 | CH24: =VLOOKUP(C24,'[1]Notes & Changes'!$D$58:$E$1012,2,FALSE) -> #N/A | CI24: =IF(CH24=D24,"Ok","Error") -> #N/A | CJ24: =ROW() -> 24
... B709: 698 | C709: Stan Feinstein | D709: Southern Suburbs Camera Club | E709: 1 | F709: 0 | G709: 0 | H709: 0 | I709: 0 | J709: 0 | K709: Ok | M709: 0 | N709: 0 | O709: 0 | P709: 0 | Q709: 0 | R709: Ok | S709: Ok | T709: 0 | V709: 0 | W709: 0 | X709: 0 | Y709: 0 | Z709: 0 | AA709: 0 | AB709: Ok | AD709: 0 | AE709: 0 | AF709: 0 | AG709: 0 | AH709: 0 | AI709: Ok | AJ709: Ok | AK709: 0 | AM709: 0 | AN709: 0 | AO709: 0 | AP709: 0 | AQ709: 0 | AS709: Ok | AU709: 0 | AV709: 0 | AW709: 0 | AX709: 0 | AY709: 0 | AZ709: Ok | BA709: Ok | BB709: 0 | BD709: 0 | BE709: 0 | BG709: 1 | BH709: 0 | BI709: 0 | BJ709: 0 | BK709: 0 | BL709: M048754 | BM709: M048754 | BN709: PSSA | BO709: - | BV709: =IF(T709=T708,BV708,BV708+1) -> 55 | BW709: =T709-T708 -> 0 | BX709: =BX708+BW709 -> -92 | CF709: =IF($M709>0,1,0) -> 0 | CG709: =IF(CF709=0,0,C709) -> 0 | CH709: =VLOOKUP(C709,'[1]Notes & Changes'!$D$58:$E$1012,2,FALSE) -> Southern Suburbs Camera Club | CI709: =IF(CH709=D709,"Ok","Error") -> Ok | CJ709: =ROW() -> 709
BV710: =IF(T710=T709,BV709,BV709+1) -> 55 | BW710: =T710-T709 -> 0 | BX710: =BX709+BW710 -> -92 | CF710: =IF($M710>0,1,0) -> 0 | CG710: =IF(CF710=0,0,C710) -> 0 | CH710: =VLOOKUP(C710,'[1]Notes & Changes'!$D$58:$E$1012,2,FALSE) -> #N/A | CI710: =IF(CH710=D710,"Ok","Error") -> #N/A | CJ710: =ROW() -> 710
BV711: =IF(T711=T710,BV710,BV710+1) -> 55 | BW711: =T711-T710 -> 0 | BX711: =BX710+BW711 -> -92 | CF711: =IF($M711>0,1,0) -> 0 | CG711: =IF(CF711=0,0,C711) -> 0 | CH711: =VLOOKUP(C711,'[1]Notes & Changes'!$D$58:$E$1012,2,FALSE) -> #N/A | CI711: =IF(CH711=D711,"Ok","Error") -> #N/A | CJ711: =ROW() -> 711
BV712: =IF(T712=T711,BV711,BV711+1) -> 55 | BW712: =T712-T711 -> 0 | BX712: =BX711+BW712 -> -92 | CF712: =IF($M712>0,1,0) -> 0 | CG712: =IF(CF712=0,0,C712) -> 0 | CH712: =VLOOKUP(C712,'[1]Notes & Changes'!$D$58:$E$1012,2,FALSE) -> #N/A | CI712: =IF(CH712=D712,"Ok","Error") -> #N/A | CJ712: =ROW() -> 712
BV713: =IF(T713=T712,BV712,BV712+1) -> 55 | BW713: =T713-T712 -> 0 | BX713: =BX712+BW713 -> -92 | CF713: =IF($M713>0,1,0) -> 0 | CG713: =IF(CF713=0,0,C713) -> 0 | CH713: =VLOOKUP(C713,'[1]Notes & Changes'!$D$58:$E$1012,2,FALSE) -> #N/A | CI713: =IF(CH713=D713,"Ok","Error") -> #N/A | CJ713: =ROW() -> 713
BV714: =IF(T714=T713,BV713,BV713+1) -> 55 | BW714: =T714-T713 -> 0 | BX714: =BX713+BW714 -> -92 | CF714: =IF($M714>0,1,0) -> 0 | CG714: =IF(CF714=0,0,C714) -> 0 | CH714: =VLOOKUP(C714,'[1]Notes & Changes'!$D$58:$E$1012,2,FALSE) -> #N/A | CI714: =IF(CH714=D714,"Ok","Error") -> #N/A | CJ714: =ROW() -> 714
BV715: =IF(T715=T714,BV714,BV714+1) -> 55 | BW715: =T715-T714 -> 0 | BX715: =BX714+BW715 -> -92 | CF715: =IF($M715>0,1,0) -> 0 | CG715: =IF(CF715=0,0,C715) -> 0 | CH715: =VLOOKUP(C715,'[1]Notes & Changes'!$D$58:$E$1012,2,FALSE) -> #N/A | CI715: =IF(CH715=D715,"Ok","Error") -> #N/A | CJ715: =ROW() -> 715
BV716: =IF(T716=T715,BV715,BV715+1) -> 55 | BW716: =T716-T715 -> 0 | BX716: =BX715+BW716 -> -92 | CF716: =IF($M716>0,1,0) -> 0 | CG716: =IF(CF716=0,0,C716) -> 0 | CH716: =VLOOKUP(C716,'[1]Notes & Changes'!$D$58:$E$1012,2,FALSE) -> #N/A | CI716: =IF(CH716=D716,"Ok","Error") -> #N/A | CJ716: =ROW() -> 716
BV717: =IF(T717=T716,BV716,BV716+1) -> 55 | BW717: =T717-T716 -> 0 | BX717: =BX716+BW717 -> -92 | CF717: =IF($M717>0,1,0) -> 0 | CG717: =IF(CF717=0,0,C717) -> 0 | CH717: =VLOOKUP(C717,'[1]Notes & Changes'!$D$58:$E$1012,2,FALSE) -> #N/A | CI717: =IF(CH717=D717,"Ok","Error") -> #N/A | CJ717: =ROW() -> 717
BV718: =IF(T718=T717,BV717,BV717+1) -> 55 | BW718: =T718-T717 -> 0 | BX718: =BX717+BW718 -> -92 | CF718: =IF($M718>0,1,0) -> 0 | CG718: =IF(CF718=0,0,C718) -> 0 | CH718: =VLOOKUP(C718,'[1]Notes & Changes'!$D$58:$E$1012,2,FALSE) -> #N/A | CI718: =IF(CH718=D718,"Ok","Error") -> #N/A | CJ718: =ROW() -> 718
BV719: =IF(T719=T718,BV718,BV718+1) -> 55 | BW719: =T719-T718 -> 0 | BX719: =BX718+BW719 -> -92 | CF719: =IF($M719>0,1,0) -> 0 | CG719: =IF(CF719=0,0,C719) -> 0 | CH719: =VLOOKUP(C719,'[1]Notes & Changes'!$D$58:$E$1012,2,FALSE) -> #N/A | CI719: =IF(CH719=D719,"Ok","Error") -> #N/A | CJ719: =ROW() -> 719
BV720: =IF(T720=T719,BV719,BV719+1) -> 55 | BW720: =T720-T719 -> 0 | BX720: =BX719+BW720 -> -92 | CF720: =IF($M720>0,1,0) -> 0 | CG720: =IF(CF720=0,0,C720) -> 0 | CH720: =VLOOKUP(C720,'[1]Notes & Changes'!$D$58:$E$1012,2,FALSE) -> #N/A | CI720: =IF(CH720=D720,"Ok","Error") -> #N/A | CJ720: =ROW() -> 720
BV721: =IF(T721=T720,BV720,BV720+1) -> 55 | BW721: =T721-T720 -> 0 | BX721: =BX720+BW721 -> -92 | CF721: =IF($M721>0,1,0) -> 0 | CG721: =IF(CF721=0,0,C721) -> 0 | CH721: =VLOOKUP(C721,'[1]Notes & Changes'!$D$58:$E$1012,2,FALSE) -> #N/A | CI721: =IF(CH721=D721,"Ok","Error") -> #N/A | CJ721: =ROW() -> 721
... BV1133: =IF(T1133=T1132,BV1132,BV1132+1) -> 55 | BW1133: =T1133-T1132 -> 0 | BX1133: =BX1132+BW1133 -> -92 | CF1133: =IF($M1133>0,1,0) -> 0 | CG1133: =IF(CF1133=0,0,C1133) -> 0 | CH1133: =VLOOKUP(C1133,'[1]Notes & Changes'!$D$58:$E$1012,2,FALSE) -> #N/A | CI1133: =IF(CH1133=D1133,"Ok","Error") -> #N/A | CJ1133: =ROW() -> 1133
