Workbook
Name PVO_Names: '[1]Members PVO Search'!$B$6:$B$3505

Sheet 1a-Overall Scores PDI
C1: PSSA SALON DATABASE RESULTS - PDI
C2: ='[1]Salon Schedule'!B69 -> Cumulative Overall Scores of Entrants - 2025 / 2026 - (up to PSSA Youth Nat Salon) - UNAUDITED
C4: * Please note that the Non-PSSA Members have been removed from the list at the end of the Impala Trophy period.
C6: Top 30 Audited
C7: Non PSSA Members removed
E8: =SUM(E12:E1998) -> 5237 | F8: =SUM(F12:F1998) -> 5457 | H8: =IF(F8='[1]Salon 2025 & 2026 DB'!BH3,"Ok","Error") -> Ok | M8: =IF(M9='[1]6.1 Judging'!AV7,"Ok","Error") -> Ok | P8: No of PDI Judges on Log: | Q8: =COUNTIF(M12:M209,">0") -> 39
C9: No of Entrants Accepted: | D9: =COUNTA(C12:C655) -> 644 | F9: PDI SCORES BY CATEGORY | M9: =SUM(M12:M1998) -> 63 | N9: PDI Categories Judged | Q9: =SUM(Q12:Q209) -> 194 | U9: PDI Position Check
D10: =VLOOKUP(C10,'[1]Salon 2025 & 2026 DB'!J:L,3,FALSE) -> #N/A | E10: =COUNTIFS('[1]Salon 2025 & 2026 DB'!J:J,'1a-Overall Scores PDI'!$C10,'[1]Salon 2025 & 2026 DB'!AT:AT,1) -> 0 | F10: =SUMIFS('[1]Salon 2025 & 2026 DB'!AP:AP,'[1]Salon 2025 & 2026 DB'!J:J,'1a-Overall Scores PDI'!$C10,'[1]Salon 2025 & 2026 DB'!AT:AT,1) -> 0 | G10: =IF(E10=0,0,F10/E10) -> 0 | H10: =SUMIF('[1]Salon 2025 & 2026 DB'!$J:$J,'1a-Overall Scores PDI'!$C10,'[1]Salon 2025 & 2026 DB'!BE:BE) -> 0 | I10: =SUMIF('[1]Salon 2025 & 2026 DB'!$J:$J,'1a-Overall Scores PDI'!$C10,'[1]Salon 2025 & 2026 DB'!BF:BF) -> 0 | J10: =SUMIF('[1]Salon 2025 & 2026 DB'!$J:$J,'1a-Overall Scores PDI'!$C10,'[1]Salon 2025 & 2026 DB'!BG:BG) -> 0 | K10: =IF(SUM(H10:J10)=F10,"Ok","Error") -> Ok | M10: =IF(E10=0,0,COUNTIFS('[1]6.1 Judging'!$B:$B,'1a-Overall Scores PDI'!C10,'[1]6.1 Judging'!$AR:$AR,">0")) -> 0 | N10: =SUMIFS('[1]6.1 Judging'!$AR:$AR,'[1]6.1 Judging'!$E:$E,"PDI",'[1]6.1 Judging'!$B:$B,'1a-Overall Scores PDI'!$C10,'[1]6.1 Judging'!$G:$G,'1a-Overall Scores PDI'!N$11) -> 0 | O10: =SUMIFS('[1]6.1 Judging'!$AR:$AR,'[1]6.1 Judging'!$E:$E,"PDI",'[1]6.1 Judging'!$B:$B,'1a-Overall Scores PDI'!$C10,'[1]6.1 Judging'!$G:$G,'1a-Overall Scores PDI'!O$11) -> 0 | P10: =SUMIFS('[1]6.1 Judging'!$AR:$AR,'[1]6.1 Judging'!$E:$E,"PDI",'[1]6.1 Judging'!$B:$B,'1a-Overall Scores PDI'!$C10,'[1]6.1 Judging'!$G:$G,'1a-Overall Scores PDI'!P$11) -> 0 | Q10: =IF(SUM(N10:P10)>F10,F10,SUM(N10:P10)) -> 0 | R10: =IF(SUMIFS('[1]6.1 Judging'!$AR:$AR,'[1]6.1 Judging'!$B:$B,'1a-Overall Scores PDI'!$C10,'[1]6.1 Judging'!$E:$E,"PDI")=SUM(N10:P10),"Ok","Error") -> Ok | S10: =IF(COUNTIFS('[1]6.1 Judging'!$B:$B,'1a-Overall Scores PDI'!$C10,'[1]6.1 Judging'!$E:$E,"PDI")=M10,"Ok","Error") -> Ok | T10: =F10+Q10 -> 0 | U10: =IF(T10=T9,U9,U9+1) -> PDI Position Check | V10: =T10-T9 -> 0 | W10: =W9+V10 -> 0
A11: =COUNTA(A12:A999) -> 0 | B11: Pos | C11: FULL NAMES | D11: Entrants Club | E11: No of PDI Photos | F11: Total PDI Points | G11: Ratio | H11: PDI Open | I11: PDI Nature | J11: PDI Mono | K11: CHECK | L11: 1 | M11: No of PDI Salons Judged | N11: Open | O11: Nature | P11: Mono | Q11: PDI Judging Points | R11: Check | S11: On PDI List? | T11: Total PDI Points | U11: Re-adj Pos | V11: Score Diff | W11: Cum Score Diff
B12: 1 | C12: Alta Oosthuizen | D12: National Photographic Club | E12: 55 | F12: 70 | G12: 1.2727273 | H12: 33 | I12: 18 | J12: 19 | K12: Ok | M12: 2 | N12: 8 | O12: 0 | P12: 0 | Q12: 8 | R12: Ok | S12: Ok | T12: 78 | U12: 1
B13: 2 | C13: Nerissa Naidoo | D13: Hibiscus Coast Photographic Society | E13: 43 | F13: 59 | G13: 1.372093 | H13: 36 | I13: 14 | J13: 9 | K13: Ok | M13: 2 | N13: 0 | O13: 8 | P13: 0 | Q13: 8 | R13: Ok | S13: Ok | T13: 67 | U13: =IF(T13=T12,U12,U12+1) -> 2 | V13: =T13-T12 -> -11 | W13: =W12+V13 -> -11
B14: 3 | C14: Kathy Kay | D14: Hibiscus Coast Photographic Society | E14: 40 | F14: 54 | G14: 1.35 | H14: 15 | I14: 33 | J14: 6 | K14: Ok | M14: 1 | N14: 0 | O14: 4 | P14: 0 | Q14: 4 | R14: Ok | S14: Ok | T14: 58 | U14: =IF(T14=T13,U13,U13+1) -> 3 | V14: =T14-T13 -> -9 | W14: =W13+V14 -> -20
B15: 4 | C15: Robbie Aspeling | D15: Sandton Photographic Society | E15: 55 | F15: 58 | G15: 1.0545455 | H15: 33 | I15: 16 | J15: 9 | K15: Ok | M15: 0 | N15: 0 | O15: 0 | P15: 0 | Q15: 0 | R15: Ok | S15: Ok | T15: 58 | U15: =IF(T15=T14,U14,U14+1) -> 3 | V15: =T15-T14 -> 0 | W15: =W14+V15 -> -20
B16: 5 | C16: Leon Drotsky | D16: Ermelo Fotoklub | E16: 40 | F16: 46 | G16: 1.15 | H16: 20 | I16: 16 | J16: 10 | K16: Ok | M16: 2 | N16: 0 | O16: 8 | P16: 0 | Q16: 8 | R16: Ok | S16: Ok | T16: 54 | U16: =IF(T16=T15,U15,U15+1) -> 4 | V16: =T16-T15 -> -4 | W16: =W15+V16 -> -24
B17: 6 | C17: David Woolf Stein | D17: Sandton Photographic Society | E17: 41 | F17: 48 | G17: 1.1707317 | H17: 14 | I17: 20 | J17: 14 | K17: Ok | M17: 0 | N17: 0 | O17: 0 | P17: 0 | Q17: 0 | R17: Ok | S17: Ok | T17: 48 | U17: =IF(T17=T16,U16,U16+1) -> 5 | V17: =T17-T16 -> -6 | W17: =W16+V17 -> -30
B18: 7 | C18: Rodney Cory | D18: Springs Photographic Club | E18: 39 | F18: 44 | G18: 1.1282051 | H18: 20 | I18: 15 | J18: 9 | K18: Ok | M18: 1 | N18: 4 | O18: 0 | P18: 0 | Q18: 4 | R18: Ok | S18: Ok | T18: 48 | U18: =IF(T18=T17,U17,U17+1) -> 5 | V18: =T18-T17 -> 0 | W18: =W17+V18 -> -30
B19: 8 | C19: Willie Labuschagne | D19: Magalies Foto Fun Club | E19: 35 | F19: 43 | G19: 1.2285714 | H19: 15 | I19: 22 | J19: 6 | K19: Ok | M19: 1 | N19: 0 | O19: 0 | P19: 4 | Q19: 4 | R19: Ok | S19: Ok | T19: 47 | U19: =IF(T19=T18,U18,U18+1) -> 6 | V19: =T19-T18 -> -1 | W19: =W18+V19 -> -31
B20: 9 | C20: Johan Frost | D20: Midlens Fotoklub | E20: 37 | F20: 44 | G20: 1.1891892 | H20: 13 | I20: 28 | J20: 3 | K20: Ok | M20: 0 | N20: 0 | O20: 0 | P20: 0 | Q20: 0 | R20: Ok | S20: Ok | T20: 44 | U20: =IF(T20=T19,U19,U19+1) -> 7 | V20: =T20-T19 -> -3 | W20: =W19+V20 -> -34
B21: 10 | C21: Shirley Swingler | D21: Amber Camera Club | E21: 36 | F21: 44 | G21: 1.2222222 | H21: 16 | I21: 24 | J21: 4 | K21: Ok | M21: 0 | N21: 0 | O21: 0 | P21: 0 | Q21: 0 | R21: Ok | S21: Ok | T21: 44 | U21: =IF(T21=T20,U20,U20+1) -> 7 | V21: =T21-T20 -> 0 | W21: =W20+V21 -> -34
B22: 11 | C22: Pieter Mare | D22: Knysna Photographic Society | E22: 35 | F22: 42 | G22: 1.2 | H22: 12 | I22: 23 | J22: 7 | K22: Ok | M22: 0 | N22: 0 | O22: 0 | P22: 0 | Q22: 0 | R22: Ok | S22: Ok | T22: 42 | U22: =IF(T22=T21,U21,U21+1) -> 8 | V22: =T22-T21 -> -2 | W22: =W21+V22 -> -36
B23: 12 | C23: Hardus Pieters | D23: Ermelo Fotoklub | E23: 32 | F23: 32 | G23: 1 | H23: 8 | I23: 12 | J23: 12 | K23: Ok | M23: 2 | N23: 0 | O23: 8 | P23: 0 | Q23: 8 | R23: Ok | S23: Ok | T23: 40 | U23: =IF(T23=T22,U22,U22+1) -> 9 | V23: =T23-T22 -> -2 | W23: =W22+V23 -> -38
B24: 13 | C24: Leon Heyes | D24: Maritzburg Camera Club | E24: 40 | F24: 40 | G24: 1 | H24: 18 | I24: 12 | J24: 10 | K24: Ok | M24: 0 | N24: 0 | O24: 0 | P24: 0 | Q24: 0 | R24: Ok | S24: Ok | T24: 40 | U24: =IF(T24=T23,U23,U23+1) -> 9 | V24: =T24-T23 -> 0 | W24: =W23+V24 -> -38
... B689: 678 | C689: Stan Feinstein | D689: Southern Suburbs Camera Club | E689: 1 | F689: 0 | G689: 0 | H689: 0 | I689: 0 | J689: 0 | K689: Ok | M689: 0 | N689: 0 | O689: 0 | P689: 0 | Q689: 0 | R689: Ok | S689: Ok | T689: 0 | U689: =IF(T689=T688,U688,U688+1) -> 48 | V689: =T689-T688 -> 0 | W689: =W688+V689 -> -78
U690: =IF(T690=T689,U689,U689+1) -> 48 | V690: =T690-T689 -> 0 | W690: =W689+V690 -> -78
U691: =IF(T691=T690,U690,U690+1) -> 48 | V691: =T691-T690 -> 0 | W691: =W690+V691 -> -78
U692: =IF(T692=T691,U691,U691+1) -> 48 | V692: =T692-T691 -> 0 | W692: =W691+V692 -> -78
U693: =IF(T693=T692,U692,U692+1) -> 48 | V693: =T693-T692 -> 0 | W693: =W692+V693 -> -78
U694: =IF(T694=T693,U693,U693+1) -> 48 | V694: =T694-T693 -> 0 | W694: =W693+V694 -> -78
U695: =IF(T695=T694,U694,U694+1) -> 48 | V695: =T695-T694 -> 0 | W695: =W694+V695 -> -78
U696: =IF(T696=T695,U695,U695+1) -> 48 | V696: =T696-T695 -> 0 | W696: =W695+V696 -> -78
U697: =IF(T697=T696,U696,U696+1) -> 48 | V697: =T697-T696 -> 0 | W697: =W696+V697 -> -78
U698: =IF(T698=T697,U697,U697+1) -> 48 | V698: =T698-T697 -> 0 | W698: =W697+V698 -> -78
U699: =IF(T699=T698,U698,U698+1) -> 48 | V699: =T699-T698 -> 0 | W699: =W698+V699 -> -78
U700: =IF(T700=T699,U699,U699+1) -> 48 | V700: =T700-T699 -> 0 | W700: =W699+V700 -> -78
U701: =IF(T701=T700,U700,U700+1) -> 48 | V701: =T701-T700 -> 0 | W701: =W700+V701 -> -78
... U1133: =IF(T1133=T1132,U1132,U1132+1) -> 48 | V1133: =T1133-T1132 -> 0 | W1133: =W1132+V1133 -> -78
